Felt | Verdi |
AlreadyApplied | True |
Aperture | 5.6 |
ApertureValue | 5.6 |
ApproximateFocusDistance | 7.5 |
Artist | Fredrik R. Hansen |
AutoLateralCA | 1 |
AutoWhiteVersion | 134348800 |
BitsPerSample | 8 |
Blacks2012 | 0 |
BlueHue | 0 |
BlueSaturation | 0 |
By-line | Fredrik R. Hansen |
CameraProfile | Camera Standard |
CFAPattern | [Red,Green][Green,Blue] |
CircleOfConfusion | 0.020 mm |
Clarity2012 | 0 |
ColorComponents | 3 |
ColorNoiseReduction | 20 |
ColorNoiseReductionDetail | 75 |
ColorNoiseReductionSmoothness | 50 |
ColorTemperature | 4550 |
Contrast | Normal |
Contrast2012 | 0 |
ConvertToGrayscale | False |
Copyright | 2013 Fredrik R. Hansen |
CopyrightFlag | True |
CopyrightNotice | 2013 Fredrik R. Hansen |
CreateDate (1) | 2014:02:26 06:28:29.30 |
CreateDate | 2014:02:26 06:28:29 |
Creator | Fredrik R. Hansen |
CreatorCity | Bergen |
CreatorCountry | Norway |
CreatorTool | Adobe Photoshop Lightroom 5.3 (Windows) |
CropAngle | 0 |
CropBottom | 0.968599 |
CropConstrainToWarp | 0 |
CropLeft | 0.238101 |
CropRight | 0.688935 |
CropTop | 0.11776 |
CustomRendered | Normal |
DateCreated (1) | 2014:02:26 |
DateCreated | 2014:02:26 06:28:29.30 |
DateTimeOriginal | 2014:02:26 06:28:29 |
DefringeGreenAmount | 0 |
DefringeGreenHueHi | 80 |
DefringeGreenHueLo | 15 |
DefringePurpleAmount | 0 |
DefringePurpleHueHi | 70 |
DefringePurpleHueLo | 39 |
DigitalZoomRatio | 1 |
DOF | 0.13 m (7.43 - 7.57 m) |
Exposure2012 | +1.55 |
ExposureCompensation | 0 |
ExposureMode | Auto |
ExposureProgram | Aperture-priority AE |
ExposureTime | 1/250 |
Flash | No Flash |
FNumber | 5.6 |
FocalLength | 300.0 mm |
FocalLength35efl | 300.0 mm (35 mm equivalent: 450.0 mm) |
FocalLengthIn35mmFormat | 450 mm |
Format | image/jpeg |
FOV | 4.6 deg |
GainControl | None |
GrainAmount | 0 |
GreenHue | 0 |
GreenSaturation | 0 |
HasCrop | True |
HasSettings | True |
Highlights2012 | -19 |
HueAdjustmentAqua | +89 |
HueAdjustmentBlue | -20 |
HueAdjustmentGreen | 0 |
HueAdjustmentMagenta | -55 |
HueAdjustmentOrange | +19 |
HueAdjustmentPurple | +19 |
HueAdjustmentRed | -50 |
HueAdjustmentYellow | +12 |
HyperfocalDistance | 802.33 m |
ImageHeight | 1024 |
ImageNumber | 34725 |
ImageSize | 819x1024 |
ImageWidth | 819 |
ISO | 110 |
Keywords | Animal, Bird, Country, FB, FB JS2014, FlickrHerindur, Geographic location, Ito, Japan, Japan Spring 2014, Nature, Shizuoka |
Lens | 70.0-300.0 mm f/4.5-5.6 |
LensID (1) | 141 |
LensID | AF-S VR Zoom-Nikkor 70-300mm f/4.5-5.6G IF-ED |
LensInfo | 70-300mm f/4.5-5.6 |
LensManualDistortionAmount | 0 |
LensModel | 70.0-300.0 mm f/4.5-5.6 |
LensProfileEnable | 0 |
LensProfileSetup | LensDefaults |
LightSource | Unknown |
LightValue | 12.8 |
LuminanceAdjustmentAqua | +16 |
LuminanceAdjustmentBlue | -17 |
LuminanceAdjustmentGreen | +38 |
LuminanceAdjustmentMagenta | -14 |
LuminanceAdjustmentOrange | +36 |
LuminanceAdjustmentPurple | -69 |
LuminanceAdjustmentRed | +43 |
LuminanceAdjustmentYellow | +11 |
LuminanceSmoothing | 0 |
Make | NIKON CORPORATION |
Marked | True |
MaxApertureValue | 5.7 |
Megapixels | 0.839 |
MeteringMode | Multi-segment |
Model | NIKON D5100 |
ModifyDate (1) | 2014:03:12 11:26:58+01:00 |
ModifyDate | 2014:03:12 11:26:58 |
ObjectName | A Japanese White-Eye (Zosterops japonicus) enjoying the spring f |
PaintCorrectionActive | true |
PaintCorrectionAmount | 1.000000 |
PaintCorrectionBrightness | 0.000000 |
PaintCorrectionClarity2012 | 0.000000 |
PaintCorrectionContrast2012 | 0.000000 |
PaintCorrectionDefringe | 0.000000 |
PaintCorrectionExposure2012 | 0.000000 |
PaintCorrectionHighlights2012 | 0.000000 |
PaintCorrectionHue | 0.000000 |
PaintCorrectionLuminanceNoise | 0.000000 |
PaintCorrectionMaskCenterWeight (10) | 0.133270 |
PaintCorrectionMaskCenterWeight | 0.361534 |
PaintCorrectionMaskFlow | 1.000000 |
PaintCorrectionMaskRadius (1) | 0.009470 |
PaintCorrectionMaskRadius (9) | 0.018250 |
PaintCorrectionMaskRadius | 0.024606 |
PaintCorrectionMaskValue (9) | 0.000000 |
PaintCorrectionMaskValue | 1.000000 |
PaintCorrectionMaskWhat | Mask/Paint |
PaintCorrectionMoire | 0.000000 |
PaintCorrectionSaturation (1) | -0.571430 |
PaintCorrectionSaturation | 0.000000 |
PaintCorrectionShadows2012 | 0.000000 |
PaintCorrectionSharpness | 0.000000 |
PaintCorrectionTemperature | 0.030000 |
PaintCorrectionTint | 0.000000 |
PaintCorrectionWhat | Correction |
ParametricDarks | -20 |
ParametricHighlights | -15 |
ParametricHighlightSplit | 75 |
ParametricLights | -11 |
ParametricMidtoneSplit | 50 |
ParametricShadows | -23 |
ParametricShadowSplit | 18 |
PerspectiveAspect | 0 |
PerspectiveHorizontal | 0 |
PerspectiveRotate | 0.0 |
PerspectiveScale | 100 |
PerspectiveUpright | 3 |
PerspectiveVertical | 0 |
PostCropVignetteAmount | 0 |
ProcessVersion | 6.7 |
ProfileDescription | sRGB IEC61966-2.1 |
RedHue | 0 |
RedSaturation | 0 |
Rights | 2013 Fredrik R. Hansen |
Saturation (1) | +5 |
Saturation | Normal |
SaturationAdjustmentAqua | -10 |
SaturationAdjustmentBlue | +83 |
SaturationAdjustmentGreen | +28 |
SaturationAdjustmentMagenta | -5 |
SaturationAdjustmentOrange | +5 |
SaturationAdjustmentPurple | -26 |
SaturationAdjustmentRed | +48 |
SaturationAdjustmentYellow | +30 |
ScaleFactor35efl | 1.5 |
SceneCaptureType | Standard |
SceneType | Directly photographed |
SensingMethod | One-chip color area |
SensitivityType | Recommended Exposure Index |
SerialNumber | 6768598 |
Shadows2012 | 0 |
ShadowTint | 0 |
SharpenDetail | 25 |
SharpenEdgeMasking | 25 |
SharpenRadius | +1.0 |
Sharpness (1) | 50 |
Sharpness | Normal |
ShutterSpeed | 1/250 |
ShutterSpeedValue | 1/250 |
Software | Adobe Photoshop Lightroom 5.3 (Windows) |
SplitToningBalance | 0 |
SplitToningHighlightHue | 0 |
SplitToningHighlightSaturation | 0 |
SplitToningShadowHue | 0 |
SplitToningShadowSaturation | 0 |
Subject | Animal, Bird, Country, FB, FB JS2014, FlickrHerindur, Geographic location, Ito, Japan, Japan Spring 2014, Nature, Shizuoka |
SubjectDistanceRange | Unknown |
Tint | +4 |
Title | A Japanese White-Eye (Zosterops japonicus) enjoying the spring flora. |
ToneCurveName2012 | Linear |
ToneCurvePV2012 | 0, 0, 255, 255 |
ToneCurvePV2012Blue | 0, 0, 255, 255 |
ToneCurvePV2012Green | 0, 0, 255, 255 |
ToneCurvePV2012Red | 0, 0, 255, 255 |
UserComment | (c) Fredrik R. Hansen |
Version | 8.3 |
Vibrance | 0 |
VignetteAmount | 0 |
WhiteBalance (1) | As Shot |
WhiteBalance | Auto |
Whites2012 | 0 |